Workbook

Sheet Groups
A1: Group A | B1: Group B | C1: Group C | D1: Group D
A2: Teso | B2: Lango | C2: Bukedi | D2: Karamoja | E2: 1
A3: Busoga | B3: Buganda | C3: Bunyoro | D3: Ankole | E3: 2
A4: Sebei | B4: Acholi | C4: Kampala | D4: West Nile | E4: 3
A5: Bugisu | B5: Kigezi | C5: Rwenzori | D5: Tooro | E5: 4

Sheet FixturesMain
A1: FEDERATION OF UGANDA FOOTBALL ASSOCIATIONS
A2: (FUFA)
A3: THE FUFA DRUM 2018 FIXTURES
A5: Mday | B5: M# | C5: Day | D5: Date | E5: Home | G5: Away | H5: Time | I5: Venue | J5: TOWN
A6: MD1a | B6: D02 | C6: Saturday | D6: 43155 | E6: =Groups!A3 -> Busoga | F6: vs | G6: =Groups!A5 -> Bugisu | H6: 4:00PM | I6: TBC | J6: TBC
A7: MD1a | B7: D01 | C7: Sunday | D7: 43156 | E7: =Groups!A2 -> Teso | F7: vs | G7: =Groups!A4 -> Sebei | H7: 4:00PM | I7: Kongunga Ground | J7: BUKEDEA
A8: MD1a | B8: D03 | C8: Sunday | D8: 43156 | E8: =Groups!B2 -> Lango | F8: vs | G8: =Groups!B4 -> Acholi | H8: 4:00PM | I8: Lango Sports Ground | J8: LIRA
A9: MD1a | B9: D04 | C9: Sunday | D9: 43156 | E9: =Groups!B3 -> Buganda | F9: vs | G9: =Groups!B5 -> Kigezi | H9: 4:00PM | I9: Masaka - Nyendo | J9: MASAKA
A10: MD1b | B10: D05 | C10: Sunday | D10: 43156 | E10: =Groups!C2 -> Bukedi | F10: vs | G10: =Groups!C4 -> Kampala | H10: 4:00PM | I10: Budaka Saza Gound | J10: BUDAKA
A11: MD1b | B11: D06 | C11: Sunday | D11: 43156 | E11: =Groups!C3 -> Bunyoro | F11: vs | G11: =Groups!C5 -> Rwenzori | H11: 4:00PM | I11: Hoima Ground | J11: HOIMA
A12: MD1b | B12: D07 | C12: Sunday | D12: 43156 | E12: =Groups!D2 -> Karamoja | F12: vs | G12: =Groups!D4 -> West Nile | H12: 4:00PM | I12: Moroto Booma Ground | J12: MOROTO
A13: MD1b | B13: D08 | C13: Sunday | D13: 43156 | E13: =Groups!D3 -> Ankole | F13: vs | G13: =Groups!D5 -> Tooro | H13: 4:00PM | I13: Kakyeka Stadium | J13: MBARARA
A15: MD2a | B15: D09 | C15: Saturday | D15: 43176 | E15: =Groups!A4 -> Sebei | F15: vs | G15: =Groups!A3 -> Busoga | H15: 4:00PM | I15: Kiprotic Stadium | J15: KAPCHORWA
A16: MD2a | B16: D10 | C16: Saturday | D16: 43176 | E16: =Groups!A5 -> Bugisu | F16: vs | G16: =Groups!A2 -> Teso | H16: 4:00PM | I16: Mbale Municipal Stadium | J16: MBALE
A17: MD2a | B17: D11 | C17: Saturday | D17: 43176 | E17: =Groups!B4 -> Acholi | F17: vs | G17: =Groups!B3 -> Buganda | H17: 4:00PM | I17: Pece Stadium - Gulu | J17: GULU
A18: MD2a | B18: D12 | C18: Saturday | D18: 43176 | E18: =Groups!B5 -> Kigezi | F18: vs | G18: =Groups!B2 -> Lango | H18: 4:00PM | I18: Kabale Municipality Stadium | J18: KABALE
A19: MD2b | B19: D13 | C19: Sunday | D19: 43177 | E19: =Groups!C4 -> Kampala | F19: vs | G19: =Groups!C3 -> Bunyoro | H19: 4:00PM | I19: Star Times Stadium - Lugogo | J19: KAMPALA
A20: MD2b | B20: D14 | C20: Sunday | D20: 43177 | E20: =Groups!C5 -> Rwenzori | F20: vs | G20: =Groups!C2 -> Bukedi | H20: 4:00PM | I20: Nyakasanga Ground | J20: KASESE
A21: MD2b | B21: D15 | C21: Sunday | D21: 43177 | E21: =Groups!D4 -> West Nile | F21: vs | G21: =Groups!D3 -> Ankole | H21: 4:00PM | I21: Ba Okoro Stadium | J21: PAIDHA
A22: MD2b | B22: D16 | C22: Sunday | D22: 43177 | E22: =Groups!D5 -> Tooro | F22: vs | G22: =Groups!D2 -> Karamoja | H22: 4:00PM | I22: Buhinga Stadium | J22: FORT PORTAL
A24: MD3a | B24: D17 | C24: Saturday | D24: 43197 | E24: =Groups!A2 -> Teso | F24: vs | G24: =Groups!A3 -> Busoga | H24: 4:00PM | I24: Kidetok | J24: SERERE
A25: MD3a | B25: D18 | C25: Saturday | D25: 43197 | E25: =Groups!A4 -> Sebei | F25: vs | G25: =Groups!A5 -> Bugisu | H25: 4:00PM | I25: Kiprotic Stadium | J25: KAPCHORWA
A26: MD3a | B26: D19 | C26: Saturday | D26: 43197 | E26: =Groups!B2 -> Lango | F26: vs | G26: =Groups!B3 -> Buganda | H26: 4:00PM | I26: Lango Sports Ground | J26: LIRA
A27: MD3a | B27: D20 | C27: Saturday | D27: 43197 | E27: =Groups!B4 -> Acholi | F27: vs | G27: =Groups!B5 -> Kigezi | H27: 4:00PM | I27: Pece Stadium | J27: GULU
A28: MD3b | B28: D21 | C28: Sunday | D28: 43198 | E28: =Groups!C2 -> Bukedi | F28: vs | G28: =Groups!C3 -> Bunyoro | H28: 4:00PM | I28: Budaka Saza Ground | J28: BUDAKA
A29: MD3b | B29: D22 | C29: Sunday | D29: 43198 | E29: =Groups!C4 -> Kampala | F29: vs | G29: =Groups!C5 -> Rwenzori | H29: 4:00PM | I29: Star Times - Lugogo | J29: KAMPALA
A30: MD3b | B30: D23 | C30: Sunday | D30: 43198 | E30: =Groups!D2 -> Karamoja | F30: vs | G30: =Groups!D3 -> Ankole | H30: 4:00PM | I30: Moroto Booma Ground | J30: MOROTO
A31: MD3b | B31: D24 | C31: Sunday | D31: 43198 | E31: =Groups!D4 -> West Nile | F31: vs | G31: =Groups!D5 -> Tooro | H31: 4:00PM | I31: Green Light Stadium | J31: ARUA
A33: MD4a | B33: D25 | C33: Saturday | D33: 43204 | E33: =Groups!A5 -> Bugisu | F33: vs | G33: =Groups!A4 -> Sebei | H33: 4:00PM | I33: Mbale Municipal Stadium | J33: MBALE
A34: MD4a | B34: D26 | C34: Saturday | D34: 43204 | E34: =Groups!A3 -> Busoga | F34: vs | G34: =Groups!A2 -> Teso | H34: 4:00PM | I34: Kamuli Ground | J34: KAMULI
A35: MD4a | B35: D27 | C35: Saturday | D35: 43204 | E35: =Groups!B5 -> Kigezi | F35: vs | G35: =Groups!B4 -> Acholi | H35: 4:00PM | I35: Kabale Municipality Stadium | J35: KABALE
A36: MD4a | B36: D28 | C36: Saturday | D36: 43204 | E36: =Groups!B3 -> Buganda | F36: vs | G36: =Groups!B2 -> Lango | H36: 4:00PM | I36: Mityana Saza Ground | J36: MITYANA
A37: MD4b | B37: D29 | C37: Sunday | D37: 43205 | E37: =Groups!C5 -> Rwenzori | F37: vs | G37: =Groups!C4 -> Kampala | H37: 4:00PM | I37: Nyahuka Christ Ground | J37: BUNDIBUGYO
A38: MD4b | B38: D30 | C38: Sunday | D38: 43205 | E38: =Groups!C3 -> Bunyoro | F38: vs | G38: =Groups!C2 -> Bukedi | H38: 4:00PM | I38: Kiryandongo Ground | J38: KIRYANDONGO
A39: MD4b | B39: D31 | C39: Sunday | D39: 43205 | E39: =Groups!D5 -> Tooro | F39: vs | G39: =Groups!D4 -> West Nile | H39: 4:00PM | I39: Buhinga Stadium | J39: FORT PORTAL
A40: MD4b | B40: D32 | C40: Sunday | D40: 43205 | E40: =Groups!D3 -> Ankole | F40: vs | G40: =Groups!D2 -> Karamoja | H40: 4:00PM | I40: Kakyeka Stadium | J40: MBARARA
A42: MD5a | B42: D33 | C42: Saturday | D42: 43253 | E42: =Groups!A5 -> Bugisu | F42: vs | G42: =Groups!A3 -> Busoga | H42: 4:00PM | I42: Mbale Municipal Stadium | J42: MBALE
A43: MD5a | B43: D34 | C43: Saturday | D43: 43253 | E43: =Groups!A4 -> Sebei | F43: vs | G43: =Groups!A2 -> Teso | H43: 4:00PM | I43: Kiprotic Stadium | J43: KAPCHORWA
A44: MD5a | B44: D35 | C44: Saturday | D44: 43253 | E44: =Groups!B5 -> Kigezi | F44: vs | G44: =Groups!B3 -> Buganda | H44: 4:00PM | I44: Kabale Municipality Stadium | J44: KABALE
A45: MD5a | B45: D36 | C45: Saturday | D45: 43253 | E45: =Groups!B4 -> Acholi | F45: vs | G45: =Groups!B2 -> Lango | H45: 4:00PM | I45: Pece Stadium | J45: GULU
A46: MD5b | B46: D37 | C46: Sunday | D46: 43254 | E46: =Groups!C5 -> Rwenzori | F46: vs | G46: =Groups!C3 -> Bunyoro | H46: 4:00PM | I46: Nyakasanga Play Ground | J46: KASESE
A47: MD5b | B47: D38 | C47: Sunday | D47: 43254 | E47: =Groups!C4 -> Kampala | F47: vs | G47: =Groups!C2 -> Bukedi | H47: 4:00PM | I47: Star Times Stadium-Lugogo | J47: KAMPALA
A48: MD5b | B48: D39 | C48: Sunday | D48: 43254 | E48: =Groups!D5 -> Tooro | F48: vs | G48: =Groups!D3 -> Ankole | H48: 4:00PM | I48: Buhinga Stadium | J48: FORTPORTAL
A49: MD5b | B49: D40 | C49: Sunday | D49: 43254 | E49: =Groups!D4 -> West Nile | F49: vs | G49: =Groups!D2 -> Karamoja | H49: 4:00PM | I49: Green Light Stadium | J49: ARUA
A51: MD6a | B51: D41 | C51: Saturday | D51: 42902 | E51: =Groups!A2 -> Teso | F51: vs | G51: =Groups!A5 -> Bugisu | H51: 4:00PM | I51: Kongunga Play Ground | J51: BUKEDEA
A52: MD6a | B52: D42 | C52: Saturday | D52: 42902 | E52: =Groups!A3 -> Busoga | F52: vs | G52: =Groups!A4 -> Sebei | H52: 4:00PM | I52: Iganga Stadium | J52: IGANGA
A53: MD6a | B53: D43 | C53: Saturday | D53: 42902 | E53: =Groups!B2 -> Lango | F53: vs | G53: =Groups!B5 -> Kigezi | H53: 4:00PM | I53: Lango Sports Ground | J53: LIRA
A54: MD6a | B54: D44 | C54: Saturday | D54: 42902 | E54: =Groups!B3 -> Buganda | F54: vs | G54: =Groups!B4 -> Acholi | H54: 4:00PM | I54: Ug Matyrs Sonde | J54: MUKONO
A55: MD6b | B55: D45 | C55: Sunday | D55: 42903 | E55: =Groups!C2 -> Bukedi | F55: vs | G55: =Groups!C5 -> Rwenzori | H55: 4:00PM | I55: Madibira Play Ground | J55: BUSIA
A56: MD6b | B56: D46 | C56: Sunday | D56: 42903 | E56: =Groups!C3 -> Bunyoro | F56: vs | G56: =Groups!C4 -> Kampala | H56: 4:00PM | I56: Masindi Play Ground | J56: MASINDI
A57: MD6b | B57: D47 | C57: Sunday | D57: 42903 | E57: =Groups!D2 -> Karamoja | F57: vs | G57: =Groups!D5 -> Tooro | H57: 4:00PM | I57: Moroto Booma Ground | J57: MOROTO
A58: MD6b | B58: D48 | C58: Sunday | D58: 42903 | E58: =Groups!D3 -> Ankole | F58: vs | G58: =Groups!D4 -> West Nile | H58: 4:00PM | I58: Kakyeka Stadium | J58: MBARARA
A60: MD7a | B60: D49 | C60: Saturday | D60: 43281 | E60: Runners-UP D | F60: vs | G60: Winner A | H60: 4:00PM | I60: TBC
A61: MD7a | B61: D50 | C61: Saturday | D61: 43281 | E61: Runners-UP A | F61: vs | G61: Winner D | H61: 4:00PM | I61: TBC
A62: MD7b | B62: D51 | C62: Sunday | D62: 43282 | E62: Runners-UP C | F62: vs | G62: Winner B | H62: 4:00PM | I62: TBC
A63: MD7b | B63: D52 | C63: Sunday | D63: 43282 | E63: Runners-UP B | F63: vs | G63: Winner C | H63: 4:00PM | I63: TBC
A65: MD8a | B65: D53 | C65: Saturday | D65: 43288 | E65: Winner A | F65: vs | G65: Runners-UP D | H65: 4:00PM | I65: TBC
A66: MD8a | B66: D54 | C66: Saturday | D66: 43288 | E66: Winner D | F66: vs | G66: Runners-UP A | H66: 4:00PM | I66: TBC
A67: MD8b | B67: D55 | C67: Sunday | D67: 43289 | E67: Winner B | F67: vs | G67: Runners-UP C | H67: 4:00PM | I67: TBC
A68: MD8b | B68: D56 | C68: Sunday | D68: 43289 | E68: Winner C | F68: vs | G68: Runners-UP B | H68: 4:00PM | I68: TBC
A70: MD9a | B70: D57 | C70: Saturday | D70: 43309 | H70: 4:00PM | I70: TBC
A71: MD9b | B71: D58 | C71: Sunday | D71: 43310 | H71: 4:00PM | I71: TBC
A73: MD10a | B73: D59 | C73: Saturday | D73: 43330 | H73: 4:00PM | I73: TBC
A74: MD10b | B74: D60 | C74: Sunday | D74: 43331 | H74: 4:00PM | I74: TBC
A76: MD11 | B76: D61 | C76: Saturday | D76: 43379 | E76: Winner 57/59 | F76: vs | G76: Winner 58/60 | H76: 4:00PM | I76: TBC
