Workbook

Sheet Groups
A1: Group A | B1: Group B | C1: Group C | D1: Group D
A2: Teso | B2: Lango | C2: Bukedi | D2: Karamoja | E2: 1
A3: Busoga | B3: Buganda | C3: Bunyoro | D3: Ankole | E3: 2
A4: Sebei | B4: Acholi | C4: Kampala | D4: West Nile | E4: 3
A5: Bugisu | B5: Kigezi | C5: Rwenzori | D5: Tooro | E5: 4

Sheet FixturesMain
A1: FEDERATION OF UGANDA FOOTBALL ASSOCIATIONS
A2: (FUFA)
A3: THE FUFA DRUM 2018 FIXTURES
A5: Mday | B5: M# | C5: Day | D5: Date | E5: Home | G5: Away | H5: Time | I5: Venue | J5: TOWN
A6: MD1a | B6: D02 | C6: Saturday | D6: 43155 | E6: =Groups!A3 -> Busoga | F6: vs | G6: =Groups!A5 -> Bugisu | H6: 4:00PM | I6: TBC | J6: TBC
A7: MD1a | B7: D01 | C7: Sunday | D7: 43156 | E7: =Groups!A2 -> Teso | F7: vs | G7: =Groups!A4 -> Sebei | H7: 4:00PM | I7: Kongunga Ground | J7: BUKEDEA
A8: MD1a | B8: D03 | C8: Sunday | D8: 43156 | E8: =Groups!B2 -> Lango | F8: vs | G8: =Groups!B4 -> Acholi | H8: 4:00PM | I8: Lango Sports Ground | J8: LIRA
A9: MD1a | B9: D04 | C9: Sunday | D9: 43156 | E9: =Groups!B3 -> Buganda | F9: vs | G9: =Groups!B5 -> Kigezi | H9: 4:00PM | I9: Masaka - Nyendo | J9: MASAKA
A10: MD1b | B10: D05 | C10: Sunday | D10: 43156 | E10: =Groups!C2 -> Bukedi | F10: vs | G10: =Groups!C4 -> Kampala | H10: 4:00PM | I10: Budaka Saza Gound | J10: BUDAKA
A11: MD1b | B11: D06 | C11: Sunday | D11: 43156 | E11: =Groups!C3 -> Bunyoro | F11: vs | G11: =Groups!C5 -> Rwenzori | H11: 4:00PM | I11: Hoima Ground | J11: HOIMA
A12: MD1b | B12: D07 | C12: Sunday | D12: 43156 | E12: =Groups!D2 -> Karamoja | F12: vs | G12: =Groups!D4 -> West Nile | H12: 4:00PM | I12: Moroto Booma Ground | J12: MOROTO
A13: MD1b | B13: D08 | C13: Sunday | D13: 43156 | E13: =Groups!D3 -> Ankole | F13: vs | G13: =Groups!D5 -> Tooro | H13: 4:00PM | I13: Kakyeka Stadium | J13: MBARARA
A15: MD2a | B15: D09 | C15: Saturday | D15: 43176 | E15: =Groups!A4 -> Sebei | F15: vs | G15: =Groups!A3 -> Busoga | H15: 4:00PM | I15: Kiprotic Stadium | J15: KAPCHORWA
A16: MD2a | B16: D10 | C16: Saturday | D16: 43176 | E16: =Groups!A5 -> Bugisu | F16: vs | G16: =Groups!A2 -> Teso | H16: 4:00PM | I16: Mbale Municipal Stadium | J16: MBALE
A17: MD2a | B17: D11 | C17: Saturday | D17: 43176 | E17: =Groups!B4 -> Acholi | F17: vs | G17: =Groups!B3 -> Buganda | H17: 4:00PM | I17: Pece Stadium - Gulu | J17: GULU
A18: MD2a | B18: D12 | C18: Saturday | D18: 43176 | E18: =Groups!B5 -> Kigezi | F18: vs | G18: =Groups!B2 -> Lango | H18: 4:00PM | I18: Kabale Municipality Stadium | J18: KABALE
A19: MD2b | B19: D13 | C19: Sunday | D19: 43177 | E19: =Groups!C4 -> Kampala | F19: vs | G19: =Groups!C3 -> Bunyoro | H19: 4:00PM | I19: Star Times Stadium - Lugogo | J19: KAMPALA
A20: MD2b | B20: D14 | C20: Sunday | D20: 43177 | E20: =Groups!C5 -> Rwenzori | F20: vs | G20: =Groups!C2 -> Bukedi | H20: 4:00PM | I20: Nyakasanga Ground | J20: KASESE
A21: MD2b | B21: D15 | C21: Sunday | D21: 43177 | E21: =Groups!D4 -> West Nile | F21: vs | G21: =Groups!D3 -> Ankole | H21: 4:00PM | I21: Ba Okoro Stadium | J21: PAIDHA
A22: MD2b | B22: D16 | C22: Sunday | D22: 43177 | E22: =Groups!D5 -> Tooro | F22: vs | G22: =Groups!D2 -> Karamoja | H22: 4:00PM | I22: Buhinga Stadium | J22: FORT PORTAL
A24: MD3a | B24: D17 | C24: Saturday | D24: 43197 | E24: =Groups!A2 -> Teso | F24: vs | G24: =Groups!A3 -> Busoga | H24: 4:00PM | I24: Kidetok | J24: SERERE
A25: MD3a | B25: D18 | C25: Saturday | D25: 43197 | E25: =Groups!A4 -> Sebei | F25: vs | G25: =Groups!A5 -> Bugisu | H25: 4:00PM | I25: Kiprotic Stadium | J25: KAPCHORWA
A26: MD3a | B26: D19 | C26: Saturday | D26: 43197 | E26: =Groups!B2 -> Lango | F26: vs | G26: =Groups!B3 -> Buganda | H26: 4:00PM | I26: Lango Sports Ground | J26: LIRA
A27: MD3a | B27: D20 | C27: Saturday | D27: 43197 | E27: =Groups!B4 -> Acholi | F27: vs | G27: =Groups!B5 -> Kigezi | H27: 4:00PM | I27: Pece Stadium | J27: GULU
A28: MD3b | B28: D21 | C28: Sunday | D28: 43198 | E28: =Groups!C2 -> Bukedi | F28: vs | G28: =Groups!C3 -> Bunyoro | H28: 4:00PM | I28: Budaka Saza Ground | J28: BUDAKA
A29: MD3b | B29: D22 | C29: Sunday | D29: 43198 | E29: =Groups!C4 -> Kampala | F29: vs | G29: =Groups!C5 -> Rwenzori | H29: 4:00PM | I29: Star Times - Lugogo | J29: KAMPALA
A30: MD3b | B30: D23 | C30: Sunday | D30: 43198 | E30: =Groups!D2 -> Karamoja | F30: vs | G30: =Groups!D3 -> Ankole | H30: 4:00PM | I30: Moroto Booma Ground | J30: MOROTO
A31: MD3b | B31: D24 | C31: Sunday | D31: 43198 | E31: =Groups!D4 -> West Nile | F31: vs | G31: =Groups!D5 -> Tooro | H31: 4:00PM | I31: Green Light Stadium | J31: ARUA
A33: MD4a | B33: D25 | C33: Saturday | D33: 43204 | E33: =Groups!A5 -> Bugisu | F33: vs | G33: =Groups!A4 -> Sebei | H33: 4:00PM | I33: Mbale Municipal Stadium | J33: MBALE
A34: MD4a | B34: D26 | C34: Saturday | D34: 43204 | E34: =Groups!A3 -> Busoga | F34: vs | G34: =Groups!A2 -> Teso | H34: 4:00PM | I34: Kamuli Ground | J34: KAMULI
A35: MD4a | B35: D27 | C35: Saturday | D35: 43204 | E35: =Groups!B5 -> Kigezi | F35: vs | G35: =Groups!B4 -> Acholi | H35: 4:00PM | I35: Kabale Municipality Stadium | J35: KABALE
A36: MD4a | B36: D28 | C36: Saturday | D36: 43204 | E36: =Groups!B3 -> Buganda | F36: vs | G36: =Groups!B2 -> Lango | H36: 4:00PM | I36: Mityana Saza Ground | J36: MITYANA
A37: MD4b | B37: D29 | C37: Sunday | D37: 43205 | E37: =Groups!C5 -> Rwenzori | F37: vs | G37: =Groups!C4 -> Kampala | H37: 4:00PM | I37: Nyahuka Christ Ground | J37: BUNDIBUGYO
A38: MD4b | B38: D30 | C38: Sunday | D38: 43205 | E38: =Groups!C3 -> Bunyoro | F38: vs | G38: =Groups!C2 -> Bukedi | H38: 4:00PM | I38: Kiryandongo Ground | J38: KIRYANDONGO
A39: MD4b | B39: D31 | C39: Sunday | D39: 43205 | E39: =Groups!D5 -> Tooro | F39: vs | G39: =Groups!D4 -> West Nile | H39: 4:00PM | I39: Buhinga Stadium | J39: FORT PORTAL
A40: MD4b | B40: D32 | C40: Sunday | D40: 43205 | E40: =Groups!D3 -> Ankole | F40: vs | G40: =Groups!D2 -> Karamoja | H40: 4:00PM | I40: Kakyeka Stadium | J40: MBARARA
A42: MD5a | B42: D33 | C42: Saturday | D42: 43253 | E42: =Groups!A5 -> Bugisu | F42: vs | G42: =Groups!A3 -> Busoga | H42: 4:00PM | I42: Mbale Municipal Stadium | J42: MBALE
A43: MD5a | B43: D34 | C43: Saturday | D43: 43253 | E43: =Groups!A4 -> Sebei | F43: vs | G43: =Groups!A2 -> Teso | H43: 4:00PM | I43: Kiprotic Stadium | J43: KAPCHORWA
A44: MD5a | B44: D35 | C44: Saturday | D44: 43253 | E44: =Groups!B5 -> Kigezi | F44: vs | G44: =Groups!B3 -> Buganda | H44: 4:00PM | I44: Kabale Municipality Stadium | J44: KABALE
A45: MD5a | B45: D36 | C45: Saturday | D45: 43253 | E45: =Groups!B4 -> Acholi | F45: vs | G45: =Groups!B2 -> Lango | H45: 4:00PM | I45: Pece Stadium | J45: GULU
...
